BEGIN:VCALENDAR
VERSION:2.0
PRODID:-//wp-events-plugin.com//7.2.3.1//EN
TZID:Europe/Berlin
X-WR-TIMEZONE:Europe/Berlin
BEGIN:VEVENT
UID:2917@galli-erfurt.de
DTSTART:20260517T140000Z
DTEND:20260517T140000Z
DTSTAMP:20260423T141428Z
URL:https://galli-erfurt.de/events/schneewittchen-9/
SUMMARY:Schneewittchen
DESCRIPTION:[vc_row equal_height="yes"][vc_column][vc_column_text css=""]\n
 Schneewittchen ist ein schönes Kind. Doch die Stiefmutter betrachtet es a
 rgwöhnisch. Als ihr der Zauberspiegel sagt\, Schneewittchen sei schöner 
 als sie\, sinnt sie auf Rache: Schneewittchen soll vom Jäger umgebracht w
 erden. Doch Schneewittchen gelingt es\, zu den sieben Zwergen zu fliehen. 
 Dort erlebt sie so manches\, bis sie endlich von ihrem Prinzen wachgerütt
 elt wird.\nErleben Sie ein wunderbares Mitspieltheater mit Katinka Riemann
 .\nWir kommen mit unseren Märchenproduktionen auch gern zu Ihnen![/vc_col
 umn_text][vc_empty_space height="18"][vc_tta_accordion style="flat" shape=
 "square" spacing="5" c_icon="chevron" active_section="2" no_fill="true"][v
 c_tta_section title="Historie" tab_id="1503413319115-727c2bff-c435"][vc_co
 lumn_text css=""]„Der Glaube\, dass sich Märchen nur für Kinder eignen
 \, ist weit verbreitet. Die Märchen bilden den größten Kulturschatz\, d
 en wir haben. Denn genau genommen sind sie Geschichten für die Seele. Kin
 der glauben ohne Weiteres an die Existenz einer Seele und sind in der Lage
 \, die Symbole\, die in den Märchen bearbeitet werden\, zu verstehen. Sp
 äter im Leben\, wenn der Verstand dominant wird\, erscheinen die Märchen
  als irreal\, ja sogar oft grausam. Dies beruht auf dem Irrglauben\, Märc
 hen seien wirkliche Geschichten. Märchen sind aber keine wirklichkeitsget
 reuen Geschichten\, sondern über Symbole verschlüsselte Einweihungswege 
 der Seele.“\n\nAuszug aus dem Script 'Märchen – spielend erlösen'\, 
 Johannes Galli[/vc_column_text][/vc_tta_section][vc_tta_section title="Spi
 eler" tab_id="1503413319127-b0178b70-60cd"][vcex_staff_grid excerpt="false
 " read_more="false" img_crop="left-top" img_width="270" img_height="360" i
 mg_filter="grayscale" include_categories="120" columns_gap="15"][/vc_tta_s
 ection][vc_tta_section title="Fotogalerie zum Stück" tab_id="150437220578
 5-6024b9a2-b2fd"][vcex_image_carousel image_ids="5483\,5484\,5490\,5491\,5
 492\,5493" caption="yes" arrows_position="abs" items="1" tablet_items="1" 
 mobile_landscape_items="1" items_margin="20" overlay_style="title-bottom-s
 ee-through" img_width="600" img_height="400"][/vc_tta_section][vc_tta_sect
 ion i_position="right" i_icon_fontawesome="fa fa-video-camera" add_icon="t
 rue" title="Video" tab_id="1504631339460-51d35dd6-30a7"][vc_video link="ht
 tps://youtu.be/czk4tr1krUM"][/vc_tta_section][vc_tta_section title="Weiter
 e Termine" tab_id="1504372265451-bc6fc131-b46b"][vc_column_text][spielplan
  mode=monthly category=88 tag=138][/vc_column_text][/vc_tta_section][/vc_t
 ta_accordion][/vc_column][/vc_row]
ATTACH;FMTTYPE=image/jpeg:https://galli-erfurt.de/wp-content/uploads/2017/
 09/Schneewittchen.jpg
CATEGORIES:Kindertheater,Spielplan
LOCATION:Galli Theater\, Marktstr. 34\, Erfurt\, Thüringen\, 99084\, Innen
 stadt\, Deutschland
X-APPLE-STRUCTURED-LOCATION;VALUE=URI;X-ADDRESS=Marktstr. 34\, Erfurt\, Th
 üringen\, 99084\, Innenstadt\, Deutschland;X-APPLE-RADIUS=100;X-TITLE=Gal
 li Theater:geo:0,0
END:VEVENT
END:VCALENDAR