BEGIN:VCALENDAR
VERSION:2.0
PRODID:-//wp-events-plugin.com//7.2.3.1//EN
TZID:Europe/Berlin
X-WR-TIMEZONE:Europe/Berlin
BEGIN:VEVENT
UID:2824@galli-erfurt.de
DTSTART:20260503T140000Z
DTEND:20260503T140000Z
DTSTAMP:20260419T130205Z
URL:https://galli-erfurt.de/events/hans-im-glueck-16/
SUMMARY:Hans im Glück
DESCRIPTION:[vc_row equal_height="yes"][vc_column][vc_column_text]Als Lohn 
 für sieben Jahre des Dienens erhält Hans vom Meister einen großen Klump
 en Gold. Für Hans heißt es nun: Hinaus in die Welt\, hinaus ins Leben...
  und sich bewähren. Auf seinem Weg unternimmt er allerhand Geschäfte. De
 n Klumpen Gold tauscht er gegen ein Pferd ein\, das gegen eine Kuh\, die g
 egen ein Schwein\, das gegen eine Gans und die wiederum gegen einen Schlei
 fstein\, den er aber in einen Brunnen fallen lässt. Nun erkennt er das Gl
 ück nur zu fassen ist\, wenn die Hände frei sind und man ganz offen daf
 ür ist. So springt er fröhlich mit seinem Lied auf den Lippen: "Hoppla H
 olla\, die Welt meints gut mit mir\, was ich nicht brauch das nimmt sie mi
 r und was ich mir wünsch das gibt sie mir\," nach Hause zu seiner Mutter\
 , die Ihn mit offenen Armen empfängt.\nErleben Sie eine einmalige Inszen
 ierung für die ganze Familie von Johannes Galli mit eigens dafür komponi
 erter Musik von Johannes Galli &amp\; Michael Summ.\nDie CD mit allen Tier
 liedern aus dem Stück erhalten Sie bei uns nach der Theateraufführung.\n
 \nWir kommen mit unseren Märchenproduktionen gern zu Ihnen.[/vc_column_te
 xt][vc_empty_space height="18"][vc_tta_accordion style="flat" shape="squar
 e" spacing="5" c_icon="chevron" active_section="2" no_fill="true"][vc_tta_
 section title="Historie" tab_id="1503413319115-727c2bff-c435"][vc_column_t
 ext]Johannes Galli begann in den 80er Jahren  Theaterstücke zu schreiben
 . Sehr lebendig inszenierte er die Märchen mit eigens komponierter Musik.
 \nDas erste inszenierte Märchen war Froschkönig\, was ein riesiger Erfol
 g wurde und somit weitere Märcheninszenierungen folgten.\nHeute lebt Joha
 nnes Galli in Wiesbaden\, wo er an seinem literarischen Werk arbeitet. Sei
 n Hauptaugenmerk liegt derzeit auf der Produktion von Märchenliedern für
  seine heiter sinnlichen Märcheninszenierungen für Kinder.\n„Der Glaub
 e\, dass sich Märchen nur für Kinder eignen\, ist weit verbreitet. Die M
 ärchen bilden den größten Kulturschatz\, den wir haben. Denn genau geno
 mmen sind sie Geschichten für die Seele. Kinder glauben ohne Weiteres an 
 die Existenz einer Seele und sind in der Lage\, die Symbole\, die in den M
 ärchen bearbeitet werden\, zu verstehen. Später im Leben\, wenn der Vers
 tand dominant wird\, erscheinen die Märchen als irreal\, ja sogar oft gra
 usam. Dies beruht auf dem Irrglauben\, Märchen seien wirkliche Geschichte
 n. Märchen sind aber keine wirklichkeitsgetreuen Geschichten\, sondern ü
 ber Symbole verschlüsselte Einweihungswege der Seele.“\n\nAuszug aus de
 m Script 'Märchen – spielend erlösen'\, Johannes Galli[/vc_column_text
 ][/vc_tta_section][vc_tta_section title="Spieler" tab_id="1503413319127-b0
 178b70-60cd"][vcex_staff_grid excerpt="false" read_more="false" img_crop="
 left-top" img_width="270" img_height="360" img_filter="grayscale" include_
 categories="122" columns_gap="15"][/vc_tta_section][vc_tta_section title="
 Weitere Termine" tab_id="1504372265451-bc6fc131-b46b"][vc_column_text][spi
 elplan mode=monthly category=88 tag=143][/vc_column_text][/vc_tta_section]
 [/vc_tta_accordion][/vc_column][/vc_row][vc_row][vc_column][vcex_image_car
 ousel image_ids="5284\,5162\,5519\,8669"][/vc_column][/vc_row]
ATTACH;FMTTYPE=image/jpeg:https://galli-erfurt.de/wp-content/uploads/2025/
 08/Hans-im-Glueck.jpg
CATEGORIES:Kindertheater,Musik von Michael Summ,Spielplan
LOCATION:Galli Theater Erfurt\, Marktstr. 34\, Erfurt\, Thüringen\, 99084\
 , Deutschland
X-APPLE-STRUCTURED-LOCATION;VALUE=URI;X-ADDRESS=Marktstr. 34\, Erfurt\, Th
 üringen\, 99084\, Deutschland;X-APPLE-RADIUS=100;X-TITLE=Galli Theater Er
 furt:geo:0,0
END:VEVENT
END:VCALENDAR