BEGIN:VCALENDAR
VERSION:2.0
PRODID:-//wp-events-plugin.com//7.2.3.1//EN
TZID:Europe/Berlin
X-WR-TIMEZONE:Europe/Berlin
BEGIN:VEVENT
UID:2914@galli-erfurt.de
DTSTART:20260509T140000Z
DTEND:20260509T140000Z
DTSTAMP:20260423T140935Z
URL:https://galli-erfurt.de/events/dornroeschen-27/
SUMMARY:Dornröschen
DESCRIPTION:[vc_row equal_height="yes"][vc_column][vc_column_text]\nEine de
 r Feen wird zur Geburt von Dornröschen nicht eingeladen da ein königlich
 es Service fehlt. Die 13. Fee verflucht Dornröschen. Diese sticht sich de
 r Prophezeiung nach an der verzauberten Spindel. Sie fällt in einen lange
 n Schlaf und mit ihr der ganze Hofstaat. Es wächst eine undurchdringliche
  Dornenhecke um ihr Schloß. Nur für den Prinzen\, der zur rechten Zeit a
 m rechten Ort erscheint verwandeln sich die Dornen in Rosen - so schreitet
  er hindurch und erweckt Dornröschen mit einem Kuss.\nWir präsentieren d
 ieses Märchen als interaktives Bühnenstück. Das Besondere ist\, dass ei
 n Schauspieler mit Musik untermalt das Märchen erzählt und spielt\, inde
 m er in die verschiedenen Märchencharaktere und Rollen schlüpft. Dabei d
 ürfen die Kinder dem Märchen nicht nur gespannt zuhören\, sondern aktiv
  mitwirken. Sie können ihre Gedanken und Ideen dem Schauspieler auf der B
 ühne zurufen\, der diese Impulse spontan mit in die Geschichte integriert
 . Außerdem können die Kinder an vielen Stellen mit kleinen Requisiten se
 lbst auf der Bühne mitspielen! So entsteht ein interaktives und einzigart
 iges Theaterspiel zwischen dem Erzähler und den Kindern.\n\nErleben Sie e
 ine einmalige Inszenierung für die ganze Familie von Johannes Galli mit 
 eigens dafür komponierter Musik von Johannes Galli &amp\; Michael Summ.\n
 \nDie CD mit allen Märchenliedern aus dem Stück (inklusive Playback-Vers
 ionen &amp\; Songtexten) erhalten Sie bei uns nach der Vorstellung.[/vc_co
 lumn_text][vc_empty_space height="18"][vc_tta_accordion style="flat" shape
 ="square" spacing="5" c_icon="chevron" active_section="2" no_fill="true"][
 vc_tta_section title="Historie" tab_id="1503413319115-727c2bff-c435"][vc_c
 olumn_text]Johannes Galli begann in den 80er Jahren  Theaterstücke zu sc
 hreiben. Sehr lebendig inszenierte er die Märchen mit eigens komponierter
  Musik.\nDas erste inszenierte Märchen war Froschkönig\, was ein riesige
 r Erfolg wurde und somit weitere Märcheninszenierungen folgten.\nHeute le
 bt Johannes Galli in Wiesbaden\, wo er an seinem literarischen Werk arbeit
 et. Sein Hauptaugenmerk liegt derzeit auf der Produktion von Märchenliede
 rn für seine heiter sinnlichen Märcheninszenierungen für Kinder.\n„De
 r Glaube\, dass sich Märchen nur für Kinder eignen\, ist weit verbreitet
 . Die Märchen bilden den größten Kulturschatz\, den wir haben. Denn gen
 au genommen sind sie Geschichten für die Seele. Kinder glauben ohne Weite
 res an die Existenz einer Seele und sind in der Lage\, die Symbole\, die i
 n den Märchen bearbeitet werden\, zu verstehen. Später im Leben\, wenn d
 er Verstand dominant wird\, erscheinen die Märchen als irreal\, ja sogar 
 oft grausam. Dies beruht auf dem Irrglauben\, Märchen seien wirkliche Ges
 chichten. Märchen sind aber keine wirklichkeitsgetreuen Geschichten\, son
 dern über Symbole verschlüsselte Einweihungswege der Seele.“\n\nAuszug
  aus dem Script 'Märchen – spielend erlösen'\, Johannes Galli[/vc_colu
 mn_text][/vc_tta_section][vc_tta_section title="Spieler" tab_id="150341331
 9127-b0178b70-60cd"][vcex_staff_grid excerpt="false" read_more="false" img
 _crop="left-top" img_width="270" img_height="360" img_filter="grayscale" c
 olumns_gap="15" include_categories="122"][/vc_tta_section][vc_tta_section 
 title="Fotogalerie zum Stück" tab_id="1504372205785-6024b9a2-b2fd"][vcex_
 image_carousel caption="yes" arrows_position="abs" items="1" tablet_items=
 "1" mobile_landscape_items="1" items_margin="20" overlay_style="title-bott
 om-see-through" img_width="600" img_height="400" image_ids="5563\,5564\,55
 65\,5566\,5567\,5568"][/vc_tta_section][vc_tta_section i_position="right" 
 i_icon_fontawesome="fa fa-video-camera" add_icon="true" title="Video" tab_
 id="1504631339460-51d35dd6-30a7"][vc_video link="https://youtu.be/qQ6kN5F3
 mW4"][/vc_tta_section][vc_tta_section title="Weitere Termine" tab_id="1504
 372265451-bc6fc131-b46b"][vc_column_text][spielplan mode=monthly category=
 88 tag=144][/vc_column_text][/vc_tta_section][/vc_tta_accordion][/vc_colum
 n][/vc_row]
ATTACH;FMTTYPE=image/jpeg:https://galli-erfurt.de/wp-content/uploads/2024/
 04/Dornroeschen.jpg
CATEGORIES:Kindertheater,Spielplan
LOCATION:Galli Theater Erfurt\, Marktstr. 34\, Erfurt\, Thüringen\, 99084\
 , Deutschland
X-APPLE-STRUCTURED-LOCATION;VALUE=URI;X-ADDRESS=Marktstr. 34\, Erfurt\, Th
 üringen\, 99084\, Deutschland;X-APPLE-RADIUS=100;X-TITLE=Galli Theater Er
 furt:geo:0,0
END:VEVENT
END:VCALENDAR