BEGIN:VCALENDAR
VERSION:2.0
PRODID:-//wp-events-plugin.com//7.2.3.1//EN
TZID:Europe/Berlin
X-WR-TIMEZONE:Europe/Berlin
BEGIN:VEVENT
UID:2924@galli-erfurt.de
DTSTART:20260627T140000Z
DTEND:20260627T140000Z
DTSTAMP:20260423T144239Z
URL:https://galli-erfurt.de/events/der-wolf-die-7-geisslein-7/
SUMMARY:Der Wolf & die 7 Geisslein
DESCRIPTION:[vc_row equal_height="yes"][vc_column][vc_column_text]\nDie Gei
 ßenmutter muss einkaufen\, und ihre Kinder bleiben alleine zu Hause. Sie 
 verspricht jedem Geisslein ein Schokoladenei\, wenn sie fein lieb und arti
 g sind und niemanden ins Haus lassen. Die Geisslein toben freudig durchs H
 aus.  Da kommt der böse Wolf und versucht\, sie mit allen Tricks zu übe
 rlisten. Zu guter Letzt gelingt es ihm  und Haus zu dringen. Er frisst si
 e alle – bis auf eines. Mit ihm zusammen findet die Geissenmutter schlie
 ßlich die Lösung: Wackersteine\, Nadel und Faden.\nDas Besondere am inte
 raktiven Märchentheater ist\, dass ein Schauspieler spielerisch und tänz
 erisch das Märchen erzählt\, indem er in die verschiedenen Märchenchara
 ktere und Rollen schlüpft. Dabei dürfen die Kinder dem Märchen nicht nu
 r gespannt zuhören\, sondern aktiv mitwirken. Sie können ihre Gedanken u
 nd Ideen dem Schauspieler auf der Bühne zurufen\, der diese Impulse spont
 an mit in die Geschichte integriert. Außerdem können die Kinder an viele
 n Stellen selbst auf der Bühne mitspielen! So entsteht ein interaktives u
 nd einzigartiges Theaterspiel zwischen dem Erzähler und den Kindern.\nErl
 eben Sie eine einmalige Inszenierung für die ganze Familie von Johannes 
 Galli mit eigens dafür komponierter Musik von Johannes Galli &amp\; Micha
 el Summ.\nDie CD mit allen Märchenliedern aus dem Stück (inklusive Playb
 ack-Versionen &amp\; Songtexten) erhalten Sie bei uns nach der Vorstellung
 .\n[/vc_column_text][vc_empty_space height="18"][vc_tta_accordion style="f
 lat" shape="square" spacing="5" c_icon="chevron" active_section="2" no_fil
 l="true"][vc_tta_section title="Historie" tab_id="1503413319115-727c2bff-c
 435"][vc_column_text]Johannes Galli begann in den 80iger Jahren  Theaters
 tücke zu schreiben. Sehr lebendig inszenierte er die Märchen mit eigens 
 komponierter Musik.\nDas erste inszenierte Märchen war Froschkönig\, was
  ein riesiger Erfolg wurde und somit weitere Märcheninszenierungen folgte
 n.\nHeute lebt Johannes Galli in Wiesbaden\, wo er an seinem literarischen
  Werk arbeitet. Sein Hauptaugenmerk liegt derzeit auf der Produktion von M
 ärchenliedern für seine heiter sinnlichen Märcheninszenierungen für Ki
 nder.\n„Der Glaube\, dass sich Märchen nur für Kinder eignen\, ist wei
 t verbreitet. Die Märchen bilden den größten Kulturschatz\, den wir hab
 en. Denn genau genommen sind sie Geschichten für die Seele. Kinder glaube
 n ohne Weiteres an die Existenz einer Seele und sind in der Lage\, die Sym
 bole\, die in den Märchen bearbeitet werden\, zu verstehen. Später im Le
 ben\, wenn der Verstand dominant wird\, erscheinen die Märchen als irreal
 \, ja sogar oft grausam. Dies beruht auf dem Irrglauben\, Märchen seien w
 irkliche Geschichten. Märchen sind aber keine wirklichkeitsgetreuen Gesch
 ichten\, sondern über Symbole verschlüsselte Einweihungswege der Seele.
 “\n\nAuszug aus dem Script 'Märchen – spielend erlösen'\, Johannes G
 alli[/vc_column_text][/vc_tta_section][vc_tta_section title="Spieler" tab_
 id="1503413319127-b0178b70-60cd"][vcex_staff_grid excerpt="false" read_mor
 e="false" img_crop="left-top" img_width="270" img_height="360" img_filter=
 "grayscale" include_categories="122" columns_gap="15"][/vc_tta_section][vc
 _tta_section title="Fotogalerie zum Stück" tab_id="1504372205785-6024b9a2
 -b2fd"][vcex_image_carousel caption="yes" arrows_position="abs" items="1" 
 tablet_items="1" mobile_landscape_items="1" items_margin="20" overlay_styl
 e="title-bottom-see-through" img_width="600" img_height="400" image_ids="5
 569\,5571\,10788\,10787\,8539\,5553\,5155"][/vc_tta_section][vc_tta_sectio
 n i_position="right" i_icon_fontawesome="fa fa-video-camera" add_icon="tru
 e" title="Video" tab_id="1504631339460-51d35dd6-30a7"][vc_video link="http
 s://youtu.be/qQ6kN5F3mW4"][/vc_tta_section][vc_tta_section title="Weitere 
 Termine" tab_id="1504372265451-bc6fc131-b46b"][vc_column_text][spielplan m
 ode=monthly category=88 tag=145][/vc_column_text][/vc_tta_section][/vc_tta
 _accordion][/vc_column][/vc_row]
ATTACH;FMTTYPE=image/jpeg:https://galli-erfurt.de/wp-content/uploads/2023/
 06/Mutter-GeissleinRG-8-scaled.jpg
CATEGORIES:Kindertheater,Musik von Michael Summ,Spielplan
LOCATION:Galli Theater\, Marktstr. 34\, Erfurt\, Thüringen\, 99084\, Innen
 stadt\, Deutschland
X-APPLE-STRUCTURED-LOCATION;VALUE=URI;X-ADDRESS=Marktstr. 34\, Erfurt\, Th
 üringen\, 99084\, Innenstadt\, Deutschland;X-APPLE-RADIUS=100;X-TITLE=Gal
 li Theater:geo:0,0
END:VEVENT
END:VCALENDAR